BEGIN:VCALENDAR
VERSION:2.0
PRODID:-//SCHFH - ECPv5.16.2.1//NONSGML v1.0//EN
CALSCALE:GREGORIAN
METHOD:PUBLISH
X-WR-CALNAME:SCHFH
X-ORIGINAL-URL:https://www.schabitat.org
X-WR-CALDESC:Events for SCHFH
BEGIN:VTIMEZONE
TZID:America/New_York
BEGIN:DAYLIGHT
TZOFFSETFROM:-0500
TZOFFSETTO:-0400
TZNAME:EDT
DTSTART:20180311T070000
END:DAYLIGHT
BEGIN:STANDARD
TZOFFSETFROM:-0400
TZOFFSETTO:-0500
TZNAME:EST
DTSTART:20181104T060000
END:STANDARD
END:VTIMEZONE
BEGIN:VEVENT
DTSTART;TZID=America/New_York:20180308T180000
DTEND;TZID=America/New_York:20180308T200000
DTSTAMP:20260422T083242
CREATED:20180129T204257Z
LAST-MODIFIED:20180213T142634Z
UID:4343-1520532000-1520539200@www.schabitat.org
SUMMARY:Application Workshop
DESCRIPTION:**We have now received the max amount of RSVPs for this workshop.** \nIf you are interested in learning more about our homeownership or home repair program\, we invite you to attend our next workshop at our offices in Jonesboro.  All of the requirements will be discussed and all of your questions answered.  Please complete the appropriate online questionnaire. You do not need to bring any documentation with you.
URL:https://www.schabitat.org/event/application-workshop-2/
LOCATION:Fortson Public Library\, 61 McDonough St.\, Hampton\, GA\, 30228\, United States
CATEGORIES:Application Workshops
ORGANIZER;CN="Megan%20Carl":MAILTO:megan.carl@schabitat.org
END:VEVENT
END:VCALENDAR