BEGIN:VCALENDAR
VERSION:2.0
PRODID:-//SCHFH - ECPv5.16.2.1//NONSGML v1.0//EN
CALSCALE:GREGORIAN
METHOD:PUBLISH
X-WR-CALNAME:SCHFH
X-ORIGINAL-URL:https://www.schabitat.org
X-WR-CALDESC:Events for SCHFH
BEGIN:VTIMEZONE
TZID:America/New_York
BEGIN:DAYLIGHT
TZOFFSETFROM:-0500
TZOFFSETTO:-0400
TZNAME:EDT
DTSTART:20180311T070000
END:DAYLIGHT
BEGIN:STANDARD
TZOFFSETFROM:-0400
TZOFFSETTO:-0500
TZNAME:EST
DTSTART:20181104T060000
END:STANDARD
END:VTIMEZONE
BEGIN:VEVENT
DTSTART;TZID=America/New_York:20180419T180000
DTEND;TZID=America/New_York:20180419T200000
DTSTAMP:20260422T042607
CREATED:20180129T204415Z
LAST-MODIFIED:20180220T192312Z
UID:4349-1524160800-1524168000@www.schabitat.org
SUMMARY:Application Workshop
DESCRIPTION:**We have now received the max amount of RSVPs for this workshop.** \nIf you are interested in learning more about our homeownership or home repair program\, we invite you to attend our next workshop. All of the requirements will be discussed and all of your questions answered. You do not need to bring any documentation with you. \nRead first about our programs here.
URL:https://www.schabitat.org/event/application-workshop-4/
LOCATION:Southern Crescent Habitat for Humanity\, 9570 Tara Boulevard\, Jonesboro\, GA\, 30236\, United States
ORGANIZER;CN="Megan%20Carl":MAILTO:megan.carl@schabitat.org
END:VEVENT
END:VCALENDAR